BEGIN:VCALENDAR
VERSION:2.0
PRODID:-//Starved Rock Family Campground - ECPv6.15.13//NONSGML v1.0//EN
CALSCALE:GREGORIAN
METHOD:PUBLISH
X-WR-CALNAME:Starved Rock Family Campground
X-ORIGINAL-URL:https://starvedrockfamilycampground.com
X-WR-CALDESC:Events for Starved Rock Family Campground
REFRESH-INTERVAL;VALUE=DURATION:PT1H
X-Robots-Tag:noindex
X-PUBLISHED-TTL:PT1H
BEGIN:VTIMEZONE
TZID:America/New_York
BEGIN:DAYLIGHT
TZOFFSETFROM:-0500
TZOFFSETTO:-0400
TZNAME:EDT
DTSTART:20250309T070000
END:DAYLIGHT
BEGIN:STANDARD
TZOFFSETFROM:-0400
TZOFFSETTO:-0500
TZNAME:EST
DTSTART:20251102T060000
END:STANDARD
BEGIN:DAYLIGHT
TZOFFSETFROM:-0500
TZOFFSETTO:-0400
TZNAME:EDT
DTSTART:20260308T070000
END:DAYLIGHT
BEGIN:STANDARD
TZOFFSETFROM:-0400
TZOFFSETTO:-0500
TZNAME:EST
DTSTART:20261101T060000
END:STANDARD
BEGIN:DAYLIGHT
TZOFFSETFROM:-0500
TZOFFSETTO:-0400
TZNAME:EDT
DTSTART:20270314T070000
END:DAYLIGHT
BEGIN:STANDARD
TZOFFSETFROM:-0400
TZOFFSETTO:-0500
TZNAME:EST
DTSTART:20271107T060000
END:STANDARD
END:VTIMEZONE
BEGIN:VEVENT
DTSTART;TZID=America/New_York:20260502T110000
DTEND;TZID=America/New_York:20260502T130000
DTSTAMP:20260423T045023
CREATED:20260410T195812Z
LAST-MODIFIED:20260410T195813Z
UID:10001898-1777719600-1777726800@starvedrockfamilycampground.com
SUMMARY:Around the World with Animals
DESCRIPTION:A live animal show at Starved Rock State Park that gives families a fun add-on beyond the trails. This is a strong-shoulder season event for guests searching for kid-friendly activities near Starved Rock.
URL:https://starvedrockfamilycampground.com/event/around-the-world-with-animals/
LOCATION:Starved Rock State Park Visitor Center / Park Program Area
END:VEVENT
END:VCALENDAR