BEGIN:VCALENDAR
VERSION:2.0
PRODID:-//Starved Rock Family Campground - ECPv6.15.13//NONSGML v1.0//EN
CALSCALE:GREGORIAN
METHOD:PUBLISH
X-WR-CALNAME:Starved Rock Family Campground
X-ORIGINAL-URL:https://starvedrockfamilycampground.com
X-WR-CALDESC:Events for Starved Rock Family Campground
REFRESH-INTERVAL;VALUE=DURATION:PT1H
X-Robots-Tag:noindex
X-PUBLISHED-TTL:PT1H
BEGIN:VTIMEZONE
TZID:America/New_York
BEGIN:DAYLIGHT
TZOFFSETFROM:-0500
TZOFFSETTO:-0400
TZNAME:EDT
DTSTART:20250309T070000
END:DAYLIGHT
BEGIN:STANDARD
TZOFFSETFROM:-0400
TZOFFSETTO:-0500
TZNAME:EST
DTSTART:20251102T060000
END:STANDARD
BEGIN:DAYLIGHT
TZOFFSETFROM:-0500
TZOFFSETTO:-0400
TZNAME:EDT
DTSTART:20260308T070000
END:DAYLIGHT
BEGIN:STANDARD
TZOFFSETFROM:-0400
TZOFFSETTO:-0500
TZNAME:EST
DTSTART:20261101T060000
END:STANDARD
BEGIN:DAYLIGHT
TZOFFSETFROM:-0500
TZOFFSETTO:-0400
TZNAME:EDT
DTSTART:20270314T070000
END:DAYLIGHT
BEGIN:STANDARD
TZOFFSETFROM:-0400
TZOFFSETTO:-0500
TZNAME:EST
DTSTART:20271107T060000
END:STANDARD
END:VTIMEZONE
BEGIN:VEVENT
DTSTART;TZID=America/New_York:20260509T070000
DTEND;TZID=America/New_York:20260509T070000
DTSTAMP:20260423T044833
CREATED:20260410T200559Z
LAST-MODIFIED:20260410T200601Z
UID:10001899-1778310000-1778310000@starvedrockfamilycampground.com
SUMMARY:Springtime Symphony
DESCRIPTION:A naturalist-led bird-watching hike at Starved Rock State Park. This is a strong fit for hikers\, birders\, photographers\, and spring campers looking for a guided outdoor experience near Starved Rock.
URL:https://starvedrockfamilycampground.com/event/springtime-symphony/
LOCATION:Starved Rock State Park Visitor Center / park trail meeting area
END:VEVENT
END:VCALENDAR